BEGIN:VCALENDAR
VERSION:2.0
PRODID:-//hacksw/handcal//NONSGML v1.0//EN
BEGIN:VEVENT
SUMMARY:- 15 ans FEMININ recoit VILLIERS EC HB
UID:c2aa2fd2-68df-41d6-b0b0-16bab3c3bcd9
DTSTART:20260403T173000Z
DTEND:20260403T184500Z
LOCATION:Gymnase Chevreul 139  boulevard Paul Vaillant Couturier 94240 L'Hay les Roses
CATEGORIES:Sportif
STATUS:
DESCRIPTION:<p>Rendez-vous au gymnase CHEVREUL: 18h45</p>
URL;VALUE=URI:https://www.calhay-handball.org/evenements/2026/04/03/15-ans-feminin-recoit-villiers-ec-hb-2435068
END:VEVENT
END:VCALENDAR
